BEGIN:VCALENDAR
VERSION:2.0
PRODID:-//Electrical Trainers – Empowering Electrical Safety - ECPv6.15.17.1//NONSGML v1.0//EN
CALSCALE:GREGORIAN
METHOD:PUBLISH
X-WR-CALNAME:Electrical Trainers – Empowering Electrical Safety
X-ORIGINAL-URL:https://electricaltrainers.com
X-WR-CALDESC:Events for Electrical Trainers – Empowering Electrical Safety
REFRESH-INTERVAL;VALUE=DURATION:PT1H
X-Robots-Tag:noindex
X-PUBLISHED-TTL:PT1H
BEGIN:VTIMEZONE
TZID:Asia/Tokyo
BEGIN:STANDARD
TZOFFSETFROM:+0900
TZOFFSETTO:+0900
TZNAME:JST
DTSTART:20240101T000000
END:STANDARD
END:VTIMEZONE
BEGIN:VEVENT
DTSTART;VALUE=DATE:20250920
DTEND;VALUE=DATE:20250925
DTSTAMP:20260426T003620
CREATED:20250920T123305Z
LAST-MODIFIED:20250920T123305Z
UID:2992-1758376800-1758722399@electricaltrainers.com
SUMMARY:Demo
DESCRIPTION:DemoDemoDemoDemoDemoDemoDemoDemoDemoDemoDemoDemoDemoDemoDemoDemoDemoDemoDemoDemoDemoDemoDemoDemo
URL:https://electricaltrainers.com/event/demo-2/
LOCATION:Houston\, TX\, 📍 Houston\, TX (In-person) or Zoom (Virtual)
CATEGORIES:Electrical Safety Training
END:VEVENT
END:VCALENDAR